Workbook

Sheet Display
D1: 2 | E1: 4 | F1: 5 | J1: 6 | K1: 11 | L1: 12 | M1: 13 | N1: 14 | O1: 15 | P1: 16 | Q1: 17 | R1: 18 | S1: 19 | T1: 20 | U1: 21 | V1: 22 | W1: 23 | X1: 24 | Y1: 25 | Z1: 26 | AA1: 27 | AD1: 28 | AE1: 8 | AH1: 7
B2: Mauxmarquis
B3: Range: 500x
B5: Pos. | E5: Firer | F5: Class | G5: Detail | H5: B/f points | I5: B/f Vs | J5: B/f score | K5: S1 | L5: S2 | M5: 1 | N5: 2 | O5: 3 | P5: 4 | Q5: 5 | R5: 6 | S5: 7 | T5: 8 | U5: 9 | V5: 10 | W5: 11 | X5: 12 | Y5: 13 | Z5: 14 | AA5: 15 | AB5: Final points | AC5: Final Vs | AD5: Final score | AE5: Points dropped | AF5: Total points | AG5: Total Vs | AH5: Total score
C6: 1 | E6: =vlookup($C6,Data!$B$3:$AH$20,E$1,false) -> Alexander Stewart | F6: =vlookup($C6,Data!$B$3:$AH$20,F$1,false) -> A | G6: =if(ISBLANK(E6)," ",vlookup($C6,Data!$B$3:$AH$20,12,false)) -> 3 | H6: =vlookup($C6,Data!$B$3:$AH$10,6,false) -> #N/A | I6: =vlookup($C6,Data!$B$3:$AH$10,7,false) -> #N/A | J6: =concatenate(H6,".",I6,"v") -> #N/A | K6: =vlookup($C6,Data!$B$3:$AH$20,13,false) -> 4 | L6: =vlookup($C6,Data!$B$3:$AH$20,14,false) -> V | M6: =vlookup($C6,Data!$B$3:$AH$20,15,false) -> V | N6: =vlookup($C6,Data!$B$3:$AH$20,16,false) -> 5 | O6: =vlookup($C6,Data!$B$3:$AH$20,17,false) -> V | P6: =vlookup($C6,Data!$B$3:$AH$20,18,false) -> 5 | Q6: =vlookup($C6,Data!$B$3:$AH$20,19,false) -> V | R6: =vlookup($C6,Data!$B$3:$AH$20,20,false) -> V | S6: =vlookup($C6,Data!$B$3:$AH$20,21,false) -> V | T6: =vlookup($C6,Data!$B$3:$AH$20,22,false) -> 5 | U6: =vlookup($C6,Data!$B$3:$AH$20,23,false) -> V | V6: =vlookup($C6,Data!$B$3:$AH$20,24,false) -> 5 | W6: =vlookup($C6,Data!$B$3:$AH$20,25,false) -> V | X6: =vlookup($C6,Data!$B$3:$AH$20,26,false) -> 5 | Y6: =vlookup($C6,Data!$B$3:$AH$20,27,false) -> V | Z6: =vlookup($C6,Data!$B$3:$AH$20,28,false) -> 5 | AA6: =vlookup($C6,Data!$B$3:$AH$20,29,false) -> V | AB6: =vlookup($C6,Data!$B$3:$AH$20,30,false) -> 75 | AC6: =vlookup($C6,Data!$B$3:$AH$20,31,false) -> 9 | AD6: =if(ISBLANK(E6)," ",concatenate(AB6,".",AC6,"v")) -> 75.9v | AE6: =if(ISBLANK(E6)," ",vlookup($C6,Data!$B$3:$AH$20,10,false)) -> 1.2e-09 | AF6: =vlookup($C6,Data!$B$3:$AH$20,8,false) -> 75 | AG6: =vlookup($C6,Data!$B$3:$AH$20,9,false) -> 9 | AH6: =if(ISBLANK(E6)," ",concatenate(AF6,".",AG6,"v")) -> 75.9v
C7: 2 | E7: =vlookup($C7,Data!$B$3:$AH$20,E$1,false) -> Rory McKenna | F7: =vlookup($C7,Data!$B$3:$AH$20,F$1,false) -> B | G7: =if(ISBLANK(E7)," ",vlookup($C7,Data!$B$3:$AH$20,12,false)) -> 3 | H7: =vlookup($C7,Data!$B$3:$AH$10,6,false) -> #N/A | I7: =vlookup($C7,Data!$B$3:$AH$10,7,false) -> #N/A | J7: =concatenate(H7,".",I7,"v") -> #N/A | K7: =vlookup($C7,Data!$B$3:$AH$20,13,false) -> 4 | L7: =vlookup($C7,Data!$B$3:$AH$20,14,false) -> V | M7: =vlookup($C7,Data!$B$3:$AH$20,15,false) -> V | N7: =vlookup($C7,Data!$B$3:$AH$20,16,false) -> 5 | O7: =vlookup($C7,Data!$B$3:$AH$20,17,false) -> V | P7: =vlookup($C7,Data!$B$3:$AH$20,18,false) -> 5 | Q7: =vlookup($C7,Data!$B$3:$AH$20,19,false) -> V | R7: =vlookup($C7,Data!$B$3:$AH$20,20,false) -> 4 | S7: =vlookup($C7,Data!$B$3:$AH$20,21,false) -> 5 | T7: =vlookup($C7,Data!$B$3:$AH$20,22,false) -> V | U7: =vlookup($C7,Data!$B$3:$AH$20,23,false) -> 5 | V7: =vlookup($C7,Data!$B$3:$AH$20,24,false) -> V | W7: =vlookup($C7,Data!$B$3:$AH$20,25,false) -> V | X7: =vlookup($C7,Data!$B$3:$AH$20,26,false) -> 5 | Y7: =vlookup($C7,Data!$B$3:$AH$20,27,false) -> 4 | Z7: =vlookup($C7,Data!$B$3:$AH$20,28,false) -> V | AA7: =vlookup($C7,Data!$B$3:$AH$20,29,false) -> 5 | AB7: =vlookup($C7,Data!$B$3:$AH$20,30,false) -> 73 | AC7: =vlookup($C7,Data!$B$3:$AH$20,31,false) -> 7 | AD7: =if(ISBLANK(E7)," ",concatenate(AB7,".",AC7,"v")) -> 73.7v | AE7: =if(ISBLANK(E7)," ",vlookup($C7,Data!$B$3:$AH$20,10,false)) -> 2 | AF7: =vlookup($C7,Data!$B$3:$AH$20,8,false) -> 73 | AG7: =vlookup($C7,Data!$B$3:$AH$20,9,false) -> 7 | AH7: =if(ISBLANK(E7)," ",concatenate(AF7,".",AG7,"v")) -> 73.7v
C8: 3 | E8: =vlookup($C8,Data!$B$3:$AH$20,E$1,false) -> Mike Creber | F8: =vlookup($C8,Data!$B$3:$AH$20,F$1,false) -> B | G8: =if(ISBLANK(E8)," ",vlookup($C8,Data!$B$3:$AH$20,12,false)) -> 1 | H8: =vlookup($C8,Data!$B$3:$AH$10,6,false) -> 0 | I8: =vlookup($C8,Data!$B$3:$AH$10,7,false) -> 0 | J8: =concatenate(H8,".",I8,"v") -> 0.0v | K8: =vlookup($C8,Data!$B$3:$AH$20,13,false) -> 3 | L8: =vlookup($C8,Data!$B$3:$AH$20,14,false) -> V | M8: =vlookup($C8,Data!$B$3:$AH$20,15,false) -> V | N8: =vlookup($C8,Data!$B$3:$AH$20,16,false) -> 4 | O8: =vlookup($C8,Data!$B$3:$AH$20,17,false) -> 5 | P8: =vlookup($C8,Data!$B$3:$AH$20,18,false) -> V | Q8: =vlookup($C8,Data!$B$3:$AH$20,19,false) -> 5 | R8: =vlookup($C8,Data!$B$3:$AH$20,20,false) -> 5 | S8: =vlookup($C8,Data!$B$3:$AH$20,21,false) -> 5 | T8: =vlookup($C8,Data!$B$3:$AH$20,22,false) -> V | U8: =vlookup($C8,Data!$B$3:$AH$20,23,false) -> 5 | V8: =vlookup($C8,Data!$B$3:$AH$20,24,false) -> V | W8: =vlookup($C8,Data!$B$3:$AH$20,25,false) -> 5 | X8: =vlookup($C8,Data!$B$3:$AH$20,26,false) -> 5 | Y8: =vlookup($C8,Data!$B$3:$AH$20,27,false) -> 4 | Z8: =vlookup($C8,Data!$B$3:$AH$20,28,false) -> V | AA8: =vlookup($C8,Data!$B$3:$AH$20,29,false) -> V | AB8: =vlookup($C8,Data!$B$3:$AH$20,30,false) -> 73 | AC8: =vlookup($C8,Data!$B$3:$AH$20,31,false) -> 6 | AD8: =if(ISBLANK(E8)," ",concatenate(AB8,".",AC8,"v")) -> 73.6v | AE8: =if(ISBLANK(E8)," ",vlookup($C8,Data!$B$3:$AH$20,10,false)) -> 2 | AF8: =vlookup($C8,Data!$B$3:$AH$20,8,false) -> 73 | AG8: =vlookup($C8,Data!$B$3:$AH$20,9,false) -> 6 | AH8: =if(ISBLANK(E8)," ",concatenate(AF8,".",AG8,"v")) -> 73.6v
C9: 4 | E9: =vlookup($C9,Data!$B$3:$AH$20,E$1,false) -> Charlie Brewin | F9: =vlookup($C9,Data!$B$3:$AH$20,F$1,false) -> B | G9: =if(ISBLANK(E9)," ",vlookup($C9,Data!$B$3:$AH$20,12,false)) -> 1 | H9: =vlookup($C9,Data!$B$3:$AH$10,6,false) -> 0 | I9: =vlookup($C9,Data!$B$3:$AH$10,7,false) -> 0 | J9: =concatenate(H9,".",I9,"v") -> 0.0v | K9: =vlookup($C9,Data!$B$3:$AH$20,13,false) -> 2 | L9: =vlookup($C9,Data!$B$3:$AH$20,14,false) -> V | M9: =vlookup($C9,Data!$B$3:$AH$20,15,false) -> V | N9: =vlookup($C9,Data!$B$3:$AH$20,16,false) -> V | O9: =vlookup($C9,Data!$B$3:$AH$20,17,false) -> 4 | P9: =vlookup($C9,Data!$B$3:$AH$20,18,false) -> 5 | Q9: =vlookup($C9,Data!$B$3:$AH$20,19,false) -> V | R9: =vlookup($C9,Data!$B$3:$AH$20,20,false) -> 5 | S9: =vlookup($C9,Data!$B$3:$AH$20,21,false) -> V | T9: =vlookup($C9,Data!$B$3:$AH$20,22,false) -> 4 | U9: =vlookup($C9,Data!$B$3:$AH$20,23,false) -> V | V9: =vlookup($C9,Data!$B$3:$AH$20,24,false) -> V | W9: =vlookup($C9,Data!$B$3:$AH$20,25,false) -> 4 | X9: =vlookup($C9,Data!$B$3:$AH$20,26,false) -> 5 | Y9: =vlookup($C9,Data!$B$3:$AH$20,27,false) -> V | Z9: =vlookup($C9,Data!$B$3:$AH$20,28,false) -> V | AA9: =vlookup($C9,Data!$B$3:$AH$20,29,false) -> 5 | AB9: =vlookup($C9,Data!$B$3:$AH$20,30,false) -> 72 | AC9: =vlookup($C9,Data!$B$3:$AH$20,31,false) -> 8 | AD9: =if(ISBLANK(E9)," ",concatenate(AB9,".",AC9,"v")) -> 72.8v | AE9: =if(ISBLANK(E9)," ",vlookup($C9,Data!$B$3:$AH$20,10,false)) -> 3 | AF9: =vlookup($C9,Data!$B$3:$AH$20,8,false) -> 72 | AG9: =vlookup($C9,Data!$B$3:$AH$20,9,false) -> 8 | AH9: =if(ISBLANK(E9)," ",concatenate(AF9,".",AG9,"v")) -> 72.8v
C10: 5 | E10: =vlookup($C10,Data!$B$3:$AH$20,E$1,false) -> Nick Branch | F10: =vlookup($C10,Data!$B$3:$AH$20,F$1,false) -> A | G10: =if(ISBLANK(E10)," ",vlookup($C10,Data!$B$3:$AH$20,12,false)) -> 1 | H10: =vlookup($C10,Data!$B$3:$AH$10,6,false) -> 0 | I10: =vlookup($C10,Data!$B$3:$AH$10,7,false) -> 0 | J10: =concatenate(H10,".",I10,"v") -> 0.0v | K10: =vlookup($C10,Data!$B$3:$AH$20,13,false) -> 4 | L10: =vlookup($C10,Data!$B$3:$AH$20,14,false) -> V | M10: =vlookup($C10,Data!$B$3:$AH$20,15,false) -> V | N10: =vlookup($C10,Data!$B$3:$AH$20,16,false) -> 4 | O10: =vlookup($C10,Data!$B$3:$AH$20,17,false) -> V | P10: =vlookup($C10,Data!$B$3:$AH$20,18,false) -> V | Q10: =vlookup($C10,Data!$B$3:$AH$20,19,false) -> V | R10: =vlookup($C10,Data!$B$3:$AH$20,20,false) -> 4 | S10: =vlookup($C10,Data!$B$3:$AH$20,21,false) -> 5 | T10: =vlookup($C10,Data!$B$3:$AH$20,22,false) -> 4 | U10: =vlookup($C10,Data!$B$3:$AH$20,23,false) -> V | V10: =vlookup($C10,Data!$B$3:$AH$20,24,false) -> V | W10: =vlookup($C10,Data!$B$3:$AH$20,25,false) -> 5 | X10: =vlookup($C10,Data!$B$3:$AH$20,26,false) -> V | Y10: =vlookup($C10,Data!$B$3:$AH$20,27,false) -> 5 | Z10: =vlookup($C10,Data!$B$3:$AH$20,28,false) -> 5 | AA10: =vlookup($C10,Data!$B$3:$AH$20,29,false) -> 4 | AB10: =vlookup($C10,Data!$B$3:$AH$20,30,false) -> 71 | AC10: =vlookup($C10,Data!$B$3:$AH$20,31,false) -> 7 | AD10: =if(ISBLANK(E10)," ",concatenate(AB10,".",AC10,"v")) -> 71.7v | AE10: =if(ISBLANK(E10)," ",vlookup($C10,Data!$B$3:$AH$20,10,false)) -> 4 | AF10: =vlookup($C10,Data!$B$3:$AH$20,8,false) -> 71 | AG10: =vlookup($C10,Data!$B$3:$AH$20,9,false) -> 7 | AH10: =if(ISBLANK(E10)," ",concatenate(AF10,".",AG10,"v")) -> 71.7v
C11: 6 | E11: =vlookup($C11,Data!$B$3:$AH$20,E$1,false) -> Adam Norman | F11: =vlookup($C11,Data!$B$3:$AH$20,F$1,false) -> A | G11: =if(ISBLANK(E11)," ",vlookup($C11,Data!$B$3:$AH$20,12,false)) -> 3 | H11: =vlookup($C11,Data!$B$3:$AH$10,6,false) -> 0 | I11: =vlookup($C11,Data!$B$3:$AH$10,7,false) -> 0 | J11: =concatenate(H11,".",I11,"v") -> 0.0v | K11: =vlookup($C11,Data!$B$3:$AH$20,13,false) -> 4 | L11: =vlookup($C11,Data!$B$3:$AH$20,14,false) -> 4 | M11: =vlookup($C11,Data!$B$3:$AH$20,15,false) -> 4 | N11: =vlookup($C11,Data!$B$3:$AH$20,16,false) -> 5 | O11: =vlookup($C11,Data!$B$3:$AH$20,17,false) -> 5 | P11: =vlookup($C11,Data!$B$3:$AH$20,18,false) -> V | Q11: =vlookup($C11,Data!$B$3:$AH$20,19,false) -> 4 | R11: =vlookup($C11,Data!$B$3:$AH$20,20,false) -> 4 | S11: =vlookup($C11,Data!$B$3:$AH$20,21,false) -> 4 | T11: =vlookup($C11,Data!$B$3:$AH$20,22,false) -> V | U11: =vlookup($C11,Data!$B$3:$AH$20,23,false) -> V | V11: =vlookup($C11,Data!$B$3:$AH$20,24,false) -> 5 | W11: =vlookup($C11,Data!$B$3:$AH$20,25,false) -> 5 | X11: =vlookup($C11,Data!$B$3:$AH$20,26,false) -> 5 | Y11: =vlookup($C11,Data!$B$3:$AH$20,27,false) -> V | Z11: =vlookup($C11,Data!$B$3:$AH$20,28,false) -> V | AA11: =vlookup($C11,Data!$B$3:$AH$20,29,false) -> 5 | AB11: =vlookup($C11,Data!$B$3:$AH$20,30,false) -> 71 | AC11: =vlookup($C11,Data!$B$3:$AH$20,31,false) -> 5 | AD11: =if(ISBLANK(E11)," ",concatenate(AB11,".",AC11,"v")) -> 71.5v | AE11: =if(ISBLANK(E11)," ",vlookup($C11,Data!$B$3:$AH$20,10,false)) -> 4 | AF11: =vlookup($C11,Data!$B$3:$AH$20,8,false) -> 71 | AG11: =vlookup($C11,Data!$B$3:$AH$20,9,false) -> 5 | AH11: =if(ISBLANK(E11)," ",concatenate(AF11,".",AG11,"v")) -> 71.5v
C12: 7 | E12: =vlookup($C12,Data!$B$3:$AH$20,E$1,false) -> Alexandra Dorey | F12: =vlookup($C12,Data!$B$3:$AH$20,F$1,false) -> B | G12: =if(ISBLANK(E12)," ",vlookup($C12,Data!$B$3:$AH$20,12,false)) -> 2 | H12: =vlookup($C12,Data!$B$3:$AH$10,6,false) -> 0 | I12: =vlookup($C12,Data!$B$3:$AH$10,7,false) -> 0 | J12: =concatenate(H12,".",I12,"v") -> 0.0v | K12: =vlookup($C12,Data!$B$3:$AH$20,13,false) -> 4 | L12: =vlookup($C12,Data!$B$3:$AH$20,14,false) -> V | M12: =vlookup($C12,Data!$B$3:$AH$20,15,false) -> V | N12: =vlookup($C12,Data!$B$3:$AH$20,16,false) -> 5 | O12: =vlookup($C12,Data!$B$3:$AH$20,17,false) -> V | P12: =vlookup($C12,Data!$B$3:$AH$20,18,false) -> V | Q12: =vlookup($C12,Data!$B$3:$AH$20,19,false) -> 4 | R12: =vlookup($C12,Data!$B$3:$AH$20,20,false) -> V | S12: =vlookup($C12,Data!$B$3:$AH$20,21,false) -> 5 | T12: =vlookup($C12,Data!$B$3:$AH$20,22,false) -> 5 | U12: =vlookup($C12,Data!$B$3:$AH$20,23,false) -> 4 | V12: =vlookup($C12,Data!$B$3:$AH$20,24,false) -> 5 | W12: =vlookup($C12,Data!$B$3:$AH$20,25,false) -> 5 | X12: =vlookup($C12,Data!$B$3:$AH$20,26,false) -> V | Y12: =vlookup($C12,Data!$B$3:$AH$20,27,false) -> 4 | Z12: =vlookup($C12,Data!$B$3:$AH$20,28,false) -> 4 | AA12: =vlookup($C12,Data!$B$3:$AH$20,29,false) -> 5 | AB12: =vlookup($C12,Data!$B$3:$AH$20,30,false) -> 71 | AC12: =vlookup($C12,Data!$B$3:$AH$20,31,false) -> 5 | AD12: =if(ISBLANK(E12)," ",concatenate(AB12,".",AC12,"v")) -> 71.5v | AE12: =if(ISBLANK(E12)," ",vlookup($C12,Data!$B$3:$AH$20,10,false)) -> 4 | AF12: =vlookup($C12,Data!$B$3:$AH$20,8,false) -> 71 | AG12: =vlookup($C12,Data!$B$3:$AH$20,9,false) -> 5 | AH12: =if(ISBLANK(E12)," ",concatenate(AF12,".",AG12,"v")) -> 71.5v
C13: 8 | E13: =vlookup($C13,Data!$B$3:$AH$20,E$1,false) -> Alistair Stewart | F13: =vlookup($C13,Data!$B$3:$AH$20,F$1,false) -> A | G13: =if(ISBLANK(E13)," ",vlookup($C13,Data!$B$3:$AH$20,12,false)) -> 1 | H13: =vlookup($C13,Data!$B$3:$AH$10,6,false) -> #N/A | I13: =vlookup($C13,Data!$B$3:$AH$10,7,false) -> #N/A | J13: =concatenate(H13,".",I13,"v") -> #N/A | K13: =vlookup($C13,Data!$B$3:$AH$20,13,false) -> 4 | L13: =vlookup($C13,Data!$B$3:$AH$20,14,false) -> 4 | M13: =vlookup($C13,Data!$B$3:$AH$20,15,false) -> 4 | N13: =vlookup($C13,Data!$B$3:$AH$20,16,false) -> 4 | O13: =vlookup($C13,Data!$B$3:$AH$20,17,false) -> 4 | P13: =vlookup($C13,Data!$B$3:$AH$20,18,false) -> 5 | Q13: =vlookup($C13,Data!$B$3:$AH$20,19,false) -> 5 | R13: =vlookup($C13,Data!$B$3:$AH$20,20,false) -> 5 | S13: =vlookup($C13,Data!$B$3:$AH$20,21,false) -> V | T13: =vlookup($C13,Data!$B$3:$AH$20,22,false) -> V | U13: =vlookup($C13,Data!$B$3:$AH$20,23,false) -> 5 | V13: =vlookup($C13,Data!$B$3:$AH$20,24,false) -> V | W13: =vlookup($C13,Data!$B$3:$AH$20,25,false) -> 5 | X13: =vlookup($C13,Data!$B$3:$AH$20,26,false) -> 4 | Y13: =vlookup($C13,Data!$B$3:$AH$20,27,false) -> V | Z13: =vlookup($C13,Data!$B$3:$AH$20,28,false) -> V | AA13: =vlookup($C13,Data!$B$3:$AH$20,29,false) -> 4 | AB13: =vlookup($C13,Data!$B$3:$AH$20,30,false) -> 70 | AC13: =vlookup($C13,Data!$B$3:$AH$20,31,false) -> 5 | AD13: =if(ISBLANK(E13)," ",concatenate(AB13,".",AC13,"v")) -> 70.5v | AE13: =if(ISBLANK(E13)," ",vlookup($C13,Data!$B$3:$AH$20,10,false)) -> 5 | AF13: =vlookup($C13,Data!$B$3:$AH$20,8,false) -> 70 | AG13: =vlookup($C13,Data!$B$3:$AH$20,9,false) -> 5 | AH13: =if(ISBLANK(E13)," ",concatenate(AF13,".",AG13,"v")) -> 70.5v
C14: 9 | E14: =vlookup($C14,Data!$B$3:$AH$20,E$1,false) -> Osman Polat | F14: =vlookup($C14,Data!$B$3:$AH$20,F$1,false) -> B | G14: =if(ISBLANK(E14)," ",vlookup($C14,Data!$B$3:$AH$20,12,false)) -> 2 | H14: =vlookup($C14,Data!$B$3:$AH$10,6,false) -> 0 | I14: =vlookup($C14,Data!$B$3:$AH$10,7,false) -> 0 | J14: =concatenate(H14,".",I14,"v") -> 0.0v | K14: =vlookup($C14,Data!$B$3:$AH$20,13,false) -> 4 | L14: =vlookup($C14,Data!$B$3:$AH$20,14,false) -> 5 | M14: =vlookup($C14,Data!$B$3:$AH$20,15,false) -> 5 | N14: =vlookup($C14,Data!$B$3:$AH$20,16,false) -> 5 | O14: =vlookup($C14,Data!$B$3:$AH$20,17,false) -> 4 | P14: =vlookup($C14,Data!$B$3:$AH$20,18,false) -> 4 | Q14: =vlookup($C14,Data!$B$3:$AH$20,19,false) -> V | R14: =vlookup($C14,Data!$B$3:$AH$20,20,false) -> V | S14: =vlookup($C14,Data!$B$3:$AH$20,21,false) -> 4 | T14: =vlookup($C14,Data!$B$3:$AH$20,22,false) -> 5 | U14: =vlookup($C14,Data!$B$3:$AH$20,23,false) -> 4 | V14: =vlookup($C14,Data!$B$3:$AH$20,24,false) -> V | W14: =vlookup($C14,Data!$B$3:$AH$20,25,false) -> 4 | X14: =vlookup($C14,Data!$B$3:$AH$20,26,false) -> 4 | Y14: =vlookup($C14,Data!$B$3:$AH$20,27,false) -> V | Z14: =vlookup($C14,Data!$B$3:$AH$20,28,false) -> 5 | AA14: =vlookup($C14,Data!$B$3:$AH$20,29,false) -> 5 | AB14: =vlookup($C14,Data!$B$3:$AH$20,30,false) -> 69 | AC14: =vlookup($C14,Data!$B$3:$AH$20,31,false) -> 4 | AD14: =if(ISBLANK(E14)," ",concatenate(AB14,".",AC14,"v")) -> 69.4v | AE14: =if(ISBLANK(E14)," ",vlookup($C14,Data!$B$3:$AH$20,10,false)) -> 6 | AF14: =vlookup($C14,Data!$B$3:$AH$20,8,false) -> 69 | AG14: =vlookup($C14,Data!$B$3:$AH$20,9,false) -> 4 | AH14: =if(ISBLANK(E14)," ",concatenate(AF14,".",AG14,"v")) -> 69.4v
C15: 10 | E15: =vlookup($C15,Data!$B$3:$AH$20,E$1,false) -> Luke Malčić | F15: =vlookup($C15,Data!$B$3:$AH$20,F$1,false) -> B | G15: =if(ISBLANK(E15)," ",vlookup($C15,Data!$B$3:$AH$20,12,false)) -> 3 | H15: =vlookup($C15,Data!$B$3:$AH$10,6,false) -> #N/A | I15: =vlookup($C15,Data!$B$3:$AH$10,7,false) -> #N/A | J15: =concatenate(H15,".",I15,"v") -> #N/A | K15: =vlookup($C15,Data!$B$3:$AH$20,13,false) -> 4 | L15: =vlookup($C15,Data!$B$3:$AH$20,14,false) -> 5 | M15: =vlookup($C15,Data!$B$3:$AH$20,15,false) -> 5 | N15: =vlookup($C15,Data!$B$3:$AH$20,16,false) -> 4 | O15: =vlookup($C15,Data!$B$3:$AH$20,17,false) -> 4 | P15: =vlookup($C15,Data!$B$3:$AH$20,18,false) -> 4 | Q15: =vlookup($C15,Data!$B$3:$AH$20,19,false) -> 4 | R15: =vlookup($C15,Data!$B$3:$AH$20,20,false) -> 5 | S15: =vlookup($C15,Data!$B$3:$AH$20,21,false) -> V | T15: =vlookup($C15,Data!$B$3:$AH$20,22,false) -> 4 | U15: =vlookup($C15,Data!$B$3:$AH$20,23,false) -> 5 | V15: =vlookup($C15,Data!$B$3:$AH$20,24,false) -> 5 | W15: =vlookup($C15,Data!$B$3:$AH$20,25,false) -> 4 | X15: =vlookup($C15,Data!$B$3:$AH$20,26,false) -> 5 | Y15: =vlookup($C15,Data!$B$3:$AH$20,27,false) -> 5 | Z15: =vlookup($C15,Data!$B$3:$AH$20,28,false) -> V | AA15: =vlookup($C15,Data!$B$3:$AH$20,29,false) -> V | AB15: =vlookup($C15,Data!$B$3:$AH$20,30,false) -> 69 | AC15: =vlookup($C15,Data!$B$3:$AH$20,31,false) -> 3 | AD15: =if(ISBLANK(E15)," ",concatenate(AB15,".",AC15,"v")) -> 69.3v | AE15: =if(ISBLANK(E15)," ",vlookup($C15,Data!$B$3:$AH$20,10,false)) -> 6 | AF15: =vlookup($C15,Data!$B$3:$AH$20,8,false) -> 69 | AG15: =vlookup($C15,Data!$B$3:$AH$20,9,false) -> 3 | AH15: =if(ISBLANK(E15)," ",concatenate(AF15,".",AG15,"v")) -> 69.3v | AI15: Docked 1 point for firing out of turn (applied against shot 5)
C16: 11 | E16: =vlookup($C16,Data!$B$3:$AH$20,E$1,false) -> Freddie Stewart | F16: =vlookup($C16,Data!$B$3:$AH$20,F$1,false) -> B | G16: =if(ISBLANK(E16)," ",vlookup($C16,Data!$B$3:$AH$20,12,false)) -> 2 | H16: =vlookup($C16,Data!$B$3:$AH$10,6,false) -> #N/A | I16: =vlookup($C16,Data!$B$3:$AH$10,7,false) -> #N/A | J16: =concatenate(H16,".",I16,"v") -> #N/A | K16: =vlookup($C16,Data!$B$3:$AH$20,13,false) -> 4 | L16: =vlookup($C16,Data!$B$3:$AH$20,14,false) -> 4 | M16: =vlookup($C16,Data!$B$3:$AH$20,15,false) -> V | N16: =vlookup($C16,Data!$B$3:$AH$20,16,false) -> 4 | O16: =vlookup($C16,Data!$B$3:$AH$20,17,false) -> V | P16: =vlookup($C16,Data!$B$3:$AH$20,18,false) -> V | Q16: =vlookup($C16,Data!$B$3:$AH$20,19,false) -> V | R16: =vlookup($C16,Data!$B$3:$AH$20,20,false) -> V | S16: =vlookup($C16,Data!$B$3:$AH$20,21,false) -> 5 | T16: =vlookup($C16,Data!$B$3:$AH$20,22,false) -> 3 | U16: =vlookup($C16,Data!$B$3:$AH$20,23,false) -> V | V16: =vlookup($C16,Data!$B$3:$AH$20,24,false) -> 4 | W16: =vlookup($C16,Data!$B$3:$AH$20,25,false) -> 5 | X16: =vlookup($C16,Data!$B$3:$AH$20,26,false) -> 5 | Y16: =vlookup($C16,Data!$B$3:$AH$20,27,false) -> 4 | Z16: =vlookup($C16,Data!$B$3:$AH$20,28,false) -> 4 | AA16: =vlookup($C16,Data!$B$3:$AH$20,29,false) -> 4 | AB16: =vlookup($C16,Data!$B$3:$AH$20,30,false) -> 68 | AC16: =vlookup($C16,Data!$B$3:$AH$20,31,false) -> 6 | AD16: =if(ISBLANK(E16)," ",concatenate(AB16,".",AC16,"v")) -> 68.6v | AE16: =if(ISBLANK(E16)," ",vlookup($C16,Data!$B$3:$AH$20,10,false)) -> 7 | AF16: =vlookup($C16,Data!$B$3:$AH$20,8,false) -> 68 | AG16: =vlookup($C16,Data!$B$3:$AH$20,9,false) -> 6 | AH16: =if(ISBLANK(E16)," ",concatenate(AF16,".",AG16,"v")) -> 68.6v
C17: 12 | E17: =vlookup($C17,Data!$B$3:$AH$20,E$1,false) -> James Nippers | F17: =vlookup($C17,Data!$B$3:$AH$20,F$1,false) -> B | G17: =if(ISBLANK(E17)," ",vlookup($C17,Data!$B$3:$AH$20,12,false)) -> 1 | H17: =vlookup($C17,Data!$B$3:$AH$10,6,false) -> #N/A | I17: =vlookup($C17,Data!$B$3:$AH$10,7,false) -> #N/A | J17: =concatenate(H17,".",I17,"v") -> #N/A | K17: =vlookup($C17,Data!$B$3:$AH$20,13,false) -> 2 | L17: =vlookup($C17,Data!$B$3:$AH$20,14,false) -> 4 | M17: =vlookup($C17,Data!$B$3:$AH$20,15,false) -> 4 | N17: =vlookup($C17,Data!$B$3:$AH$20,16,false) -> 5 | O17: =vlookup($C17,Data!$B$3:$AH$20,17,false) -> 4 | P17: =vlookup($C17,Data!$B$3:$AH$20,18,false) -> 4 | Q17: =vlookup($C17,Data!$B$3:$AH$20,19,false) -> V | R17: =vlookup($C17,Data!$B$3:$AH$20,20,false) -> 4 | S17: =vlookup($C17,Data!$B$3:$AH$20,21,false) -> 5 | T17: =vlookup($C17,Data!$B$3:$AH$20,22,false) -> V | U17: =vlookup($C17,Data!$B$3:$AH$20,23,false) -> V | V17: =vlookup($C17,Data!$B$3:$AH$20,24,false) -> 4 | W17: =vlookup($C17,Data!$B$3:$AH$20,25,false) -> 4 | X17: =vlookup($C17,Data!$B$3:$AH$20,26,false) -> 5 | Y17: =vlookup($C17,Data!$B$3:$AH$20,27,false) -> 4 | Z17: =vlookup($C17,Data!$B$3:$AH$20,28,false) -> V | AA17: =vlookup($C17,Data!$B$3:$AH$20,29,false) -> V | AB17: =vlookup($C17,Data!$B$3:$AH$20,30,false) -> 68 | AC17: =vlookup($C17,Data!$B$3:$AH$20,31,false) -> 5 | AD17: =if(ISBLANK(E17)," ",concatenate(AB17,".",AC17,"v")) -> 68.5v | AE17: =if(ISBLANK(E17)," ",vlookup($C17,Data!$B$3:$AH$20,10,false)) -> 7 | AF17: =vlookup($C17,Data!$B$3:$AH$20,8,false) -> 68 | AG17: =vlookup($C17,Data!$B$3:$AH$20,9,false) -> 5 | AH17: =if(ISBLANK(E17)," ",concatenate(AF17,".",AG17,"v")) -> 68.5v
C18: 13 | E18: =vlookup($C18,Data!$B$3:$AH$20,E$1,false) -> Jacques Bideau | F18: =vlookup($C18,Data!$B$3:$AH$20,F$1,false) -> B | G18: =if(ISBLANK(E18)," ",vlookup($C18,Data!$B$3:$AH$20,12,false)) -> 2 | H18: =vlookup($C18,Data!$B$3:$AH$10,6,false) -> 0 | I18: =vlookup($C18,Data!$B$3:$AH$10,7,false) -> 0 | J18: =concatenate(H18,".",I18,"v") -> 0.0v | K18: =vlookup($C18,Data!$B$3:$AH$20,13,false) -> 4 | L18: =vlookup($C18,Data!$B$3:$AH$20,14,false) -> 5 | M18: =vlookup($C18,Data!$B$3:$AH$20,15,false) -> 5 | N18: =vlookup($C18,Data!$B$3:$AH$20,16,false) -> 4 | O18: =vlookup($C18,Data!$B$3:$AH$20,17,false) -> 4 | P18: =vlookup($C18,Data!$B$3:$AH$20,18,false) -> 5 | Q18: =vlookup($C18,Data!$B$3:$AH$20,19,false) -> V | R18: =vlookup($C18,Data!$B$3:$AH$20,20,false) -> 5 | S18: =vlookup($C18,Data!$B$3:$AH$20,21,false) -> 4 | T18: =vlookup($C18,Data!$B$3:$AH$20,22,false) -> 5 | U18: =vlookup($C18,Data!$B$3:$AH$20,23,false) -> 5 | V18: =vlookup($C18,Data!$B$3:$AH$20,24,false) -> 4 | W18: =vlookup($C18,Data!$B$3:$AH$20,25,false) -> 4 | X18: =vlookup($C18,Data!$B$3:$AH$20,26,false) -> 5 | Y18: =vlookup($C18,Data!$B$3:$AH$20,27,false) -> 4 | Z18: =vlookup($C18,Data!$B$3:$AH$20,28,false) -> 4 | AA18: =vlookup($C18,Data!$B$3:$AH$20,29,false) -> 5 | AB18: =vlookup($C18,Data!$B$3:$AH$20,30,false) -> 68 | AC18: =vlookup($C18,Data!$B$3:$AH$20,31,false) -> 1 | AD18: =if(ISBLANK(E18)," ",concatenate(AB18,".",AC18,"v")) -> 68.1v | AE18: =if(ISBLANK(E18)," ",vlookup($C18,Data!$B$3:$AH$20,10,false)) -> 7 | AF18: =vlookup($C18,Data!$B$3:$AH$20,8,false) -> 68 | AG18: =vlookup($C18,Data!$B$3:$AH$20,9,false) -> 1 | AH18: =if(ISBLANK(E18)," ",concatenate(AF18,".",AG18,"v")) -> 68.1v
C19: 14 | E19: =vlookup($C19,Data!$B$3:$AH$20,E$1,false) -> Mike Marquand | F19: =vlookup($C19,Data!$B$3:$AH$20,F$1,false) -> B | G19: =if(ISBLANK(E19)," ",vlookup($C19,Data!$B$3:$AH$20,12,false)) -> 3 | H19: =vlookup($C19,Data!$B$3:$AH$10,6,false) -> #N/A | I19: =vlookup($C19,Data!$B$3:$AH$10,7,false) -> #N/A | J19: =concatenate(H19,".",I19,"v") -> #N/A | K19: =vlookup($C19,Data!$B$3:$AH$20,13,false) -> 4 | L19: =vlookup($C19,Data!$B$3:$AH$20,14,false) -> 4 | M19: =vlookup($C19,Data!$B$3:$AH$20,15,false) -> 5 | N19: =vlookup($C19,Data!$B$3:$AH$20,16,false) -> 3 | O19: =vlookup($C19,Data!$B$3:$AH$20,17,false) -> 5 | P19: =vlookup($C19,Data!$B$3:$AH$20,18,false) -> 4 | Q19: =vlookup($C19,Data!$B$3:$AH$20,19,false) -> 4 | R19: =vlookup($C19,Data!$B$3:$AH$20,20,false) -> V | S19: =vlookup($C19,Data!$B$3:$AH$20,21,false) -> 4 | T19: =vlookup($C19,Data!$B$3:$AH$20,22,false) -> 5 | U19: =vlookup($C19,Data!$B$3:$AH$20,23,false) -> 4 | V19: =vlookup($C19,Data!$B$3:$AH$20,24,false) -> 5 | W19: =vlookup($C19,Data!$B$3:$AH$20,25,false) -> 4 | X19: =vlookup($C19,Data!$B$3:$AH$20,26,false) -> 5 | Y19: =vlookup($C19,Data!$B$3:$AH$20,27,false) -> 4 | Z19: =vlookup($C19,Data!$B$3:$AH$20,28,false) -> 4 | AA19: =vlookup($C19,Data!$B$3:$AH$20,29,false) -> V | AB19: =vlookup($C19,Data!$B$3:$AH$20,30,false) -> 66 | AC19: =vlookup($C19,Data!$B$3:$AH$20,31,false) -> 2 | AD19: =if(ISBLANK(E19)," ",concatenate(AB19,".",AC19,"v")) -> 66.2v | AE19: =if(ISBLANK(E19)," ",vlookup($C19,Data!$B$3:$AH$20,10,false)) -> 9 | AF19: =vlookup($C19,Data!$B$3:$AH$20,8,false) -> 66 | AG19: =vlookup($C19,Data!$B$3:$AH$20,9,false) -> 2 | AH19: =if(ISBLANK(E19)," ",concatenate(AF19,".",AG19,"v")) -> 66.2v
C20: 15 | E20: =vlookup($C20,Data!$B$3:$AH$20,E$1,false) -> Jeremy Witham | F20: =vlookup($C20,Data!$B$3:$AH$20,F$1,false) -> B | G20: =if(ISBLANK(E20)," ",vlookup($C20,Data!$B$3:$AH$20,12,false)) -> 3 | H20: =vlookup($C20,Data!$B$3:$AH$10,6,false) -> #N/A | I20: =vlookup($C20,Data!$B$3:$AH$10,7,false) -> #N/A | J20: =concatenate(H20,".",I20,"v") -> #N/A | K20: =vlookup($C20,Data!$B$3:$AH$20,13,false) -> 4 | L20: =vlookup($C20,Data!$B$3:$AH$20,14,false) -> 4 | M20: =vlookup($C20,Data!$B$3:$AH$20,15,false) -> 4 | N20: =vlookup($C20,Data!$B$3:$AH$20,16,false) -> 4 | O20: =vlookup($C20,Data!$B$3:$AH$20,17,false) -> 5 | P20: =vlookup($C20,Data!$B$3:$AH$20,18,false) -> 5 | Q20: =vlookup($C20,Data!$B$3:$AH$20,19,false) -> 4 | R20: =vlookup($C20,Data!$B$3:$AH$20,20,false) -> 5 | S20: =vlookup($C20,Data!$B$3:$AH$20,21,false) -> 4 | T20: =vlookup($C20,Data!$B$3:$AH$20,22,false) -> 4 | U20: =vlookup($C20,Data!$B$3:$AH$20,23,false) -> 4 | V20: =vlookup($C20,Data!$B$3:$AH$20,24,false) -> 5 | W20: =vlookup($C20,Data!$B$3:$AH$20,25,false) -> V | X20: =vlookup($C20,Data!$B$3:$AH$20,26,false) -> 4 | Y20: =vlookup($C20,Data!$B$3:$AH$20,27,false) -> 4 | Z20: =vlookup($C20,Data!$B$3:$AH$20,28,false) -> 4 | AA20: =vlookup($C20,Data!$B$3:$AH$20,29,false) -> V | AB20: =vlookup($C20,Data!$B$3:$AH$20,30,false) -> 66 | AC20: =vlookup($C20,Data!$B$3:$AH$20,31,false) -> 2 | AD20: =if(ISBLANK(E20)," ",concatenate(AB20,".",AC20,"v")) -> 66.2v | AE20: =if(ISBLANK(E20)," ",vlookup($C20,Data!$B$3:$AH$20,10,false)) -> 9 | AF20: =vlookup($C20,Data!$B$3:$AH$20,8,false) -> 66 | AG20: =vlookup($C20,Data!$B$3:$AH$20,9,false) -> 2 | AH20: =if(ISBLANK(E20)," ",concatenate(AF20,".",AG20,"v")) -> 66.2v
C21: 16 | E21: =vlookup($C21,Data!$B$3:$AH$20,E$1,false) -> Mikey Chammings | F21: =vlookup($C21,Data!$B$3:$AH$20,F$1,false) -> B | G21: =if(ISBLANK(E21)," ",vlookup($C21,Data!$B$3:$AH$20,12,false)) -> 1 | H21: =vlookup($C21,Data!$B$3:$AH$10,6,false) -> 0 | I21: =vlookup($C21,Data!$B$3:$AH$10,7,false) -> 0 | J21: =concatenate(H21,".",I21,"v") -> 0.0v | K21: =vlookup($C21,Data!$B$3:$AH$20,13,false) -> 4 | L21: =vlookup($C21,Data!$B$3:$AH$20,14,false) -> 4 | M21: =vlookup($C21,Data!$B$3:$AH$20,15,false) -> 4 | N21: =vlookup($C21,Data!$B$3:$AH$20,16,false) -> 4 | O21: =vlookup($C21,Data!$B$3:$AH$20,17,false) -> 4 | P21: =vlookup($C21,Data!$B$3:$AH$20,18,false) -> 3 | Q21: =vlookup($C21,Data!$B$3:$AH$20,19,false) -> 4 | R21: =vlookup($C21,Data!$B$3:$AH$20,20,false) -> 5 | S21: =vlookup($C21,Data!$B$3:$AH$20,21,false) -> 4 | T21: =vlookup($C21,Data!$B$3:$AH$20,22,false) -> 5 | U21: =vlookup($C21,Data!$B$3:$AH$20,23,false) -> 4 | V21: =vlookup($C21,Data!$B$3:$AH$20,24,false) -> 4 | W21: =vlookup($C21,Data!$B$3:$AH$20,25,false) -> 5 | X21: =vlookup($C21,Data!$B$3:$AH$20,26,false) -> 4 | Y21: =vlookup($C21,Data!$B$3:$AH$20,27,false) -> 5 | Z21: =vlookup($C21,Data!$B$3:$AH$20,28,false) -> V | AA21: =vlookup($C21,Data!$B$3:$AH$20,29,false) -> V | AB21: =vlookup($C21,Data!$B$3:$AH$20,30,false) -> 65 | AC21: =vlookup($C21,Data!$B$3:$AH$20,31,false) -> 2 | AD21: =if(ISBLANK(E21)," ",concatenate(AB21,".",AC21,"v")) -> 65.2v | AE21: =if(ISBLANK(E21)," ",vlookup($C21,Data!$B$3:$AH$20,10,false)) -> 10 | AF21: =vlookup($C21,Data!$B$3:$AH$20,8,false) -> 65 | AG21: =vlookup($C21,Data!$B$3:$AH$20,9,false) -> 2 | AH21: =if(ISBLANK(E21)," ",concatenate(AF21,".",AG21,"v")) -> 65.2v
C22: 17 | E22: =vlookup($C22,Data!$B$3:$AH$20,E$1,false) -> Jason Richards | F22: =vlookup($C22,Data!$B$3:$AH$20,F$1,false) -> B | G22: =if(ISBLANK(E22)," ",vlookup($C22,Data!$B$3:$AH$20,12,false)) -> 2 | H22: =vlookup($C22,Data!$B$3:$AH$10,6,false) -> #N/A | I22: =vlookup($C22,Data!$B$3:$AH$10,7,false) -> #N/A | J22: =concatenate(H22,".",I22,"v") -> #N/A | K22: =vlookup($C22,Data!$B$3:$AH$20,13,false) -> 0 | L22: =vlookup($C22,Data!$B$3:$AH$20,14,false) -> 4 | M22: =vlookup($C22,Data!$B$3:$AH$20,15,false) -> 3 | N22: =vlookup($C22,Data!$B$3:$AH$20,16,false) -> 4 | O22: =vlookup($C22,Data!$B$3:$AH$20,17,false) -> 2 | P22: =vlookup($C22,Data!$B$3:$AH$20,18,false) -> 4 | Q22: =vlookup($C22,Data!$B$3:$AH$20,19,false) -> 4 | R22: =vlookup($C22,Data!$B$3:$AH$20,20,false) -> V | S22: =vlookup($C22,Data!$B$3:$AH$20,21,false) -> 5 | T22: =vlookup($C22,Data!$B$3:$AH$20,22,false) -> 5 | U22: =vlookup($C22,Data!$B$3:$AH$20,23,false) -> 5 | V22: =vlookup($C22,Data!$B$3:$AH$20,24,false) -> 4 | W22: =vlookup($C22,Data!$B$3:$AH$20,25,false) -> 4 | X22: =vlookup($C22,Data!$B$3:$AH$20,26,false) -> 5 | Y22: =vlookup($C22,Data!$B$3:$AH$20,27,false) -> 5 | Z22: =vlookup($C22,Data!$B$3:$AH$20,28,false) -> 4 | AA22: =vlookup($C22,Data!$B$3:$AH$20,29,false) -> 4 | AB22: =vlookup($C22,Data!$B$3:$AH$20,30,false) -> 63 | AC22: =vlookup($C22,Data!$B$3:$AH$20,31,false) -> 1 | AD22: =if(ISBLANK(E22)," ",concatenate(AB22,".",AC22,"v")) -> 63.1v | AE22: =if(ISBLANK(E22)," ",vlookup($C22,Data!$B$3:$AH$20,10,false)) -> 12 | AF22: =vlookup($C22,Data!$B$3:$AH$20,8,false) -> 63 | AG22: =vlookup($C22,Data!$B$3:$AH$20,9,false) -> 1 | AH22: =if(ISBLANK(E22)," ",concatenate(AF22,".",AG22,"v")) -> 63.1v
C23: 18 | E23: =vlookup($C23,Data!$B$3:$AH$20,E$1,false) -> Kieran Kelly | F23: =vlookup($C23,Data!$B$3:$AH$20,F$1,false) -> B | G23: =if(ISBLANK(E23)," ",vlookup($C23,Data!$B$3:$AH$20,12,false)) -> 3 | H23: =vlookup($C23,Data!$B$3:$AH$10,6,false) -> #N/A | I23: =vlookup($C23,Data!$B$3:$AH$10,7,false) -> #N/A | J23: =concatenate(H23,".",I23,"v") -> #N/A | K23: =vlookup($C23,Data!$B$3:$AH$20,13,false) -> 4 | L23: =vlookup($C23,Data!$B$3:$AH$20,14,false) -> 4 | M23: =vlookup($C23,Data!$B$3:$AH$20,15,false) -> 4 | N23: =vlookup($C23,Data!$B$3:$AH$20,16,false) -> 3 | O23: =vlookup($C23,Data!$B$3:$AH$20,17,false) -> 1 | P23: =vlookup($C23,Data!$B$3:$AH$20,18,false) -> 2 | Q23: =vlookup($C23,Data!$B$3:$AH$20,19,false) -> 4 | R23: =vlookup($C23,Data!$B$3:$AH$20,20,false) -> 4 | S23: =vlookup($C23,Data!$B$3:$AH$20,21,false) -> 2 | T23: =vlookup($C23,Data!$B$3:$AH$20,22,false) -> 5 | U23: =vlookup($C23,Data!$B$3:$AH$20,23,false) -> 4 | V23: =vlookup($C23,Data!$B$3:$AH$20,24,false) -> 4 | W23: =vlookup($C23,Data!$B$3:$AH$20,25,false) -> 3 | X23: =vlookup($C23,Data!$B$3:$AH$20,26,false) -> 5 | Y23: =vlookup($C23,Data!$B$3:$AH$20,27,false) -> 5 | Z23: =vlookup($C23,Data!$B$3:$AH$20,28,false) -> 4 | AA23: =vlookup($C23,Data!$B$3:$AH$20,29,false) -> 4 | AB23: =vlookup($C23,Data!$B$3:$AH$20,30,false) -> 54 | AC23: =vlookup($C23,Data!$B$3:$AH$20,31,false) -> 0 | AD23: =if(ISBLANK(E23)," ",concatenate(AB23,".",AC23,"v")) -> 54.0v | AE23: =if(ISBLANK(E23)," ",vlookup($C23,Data!$B$3:$AH$20,10,false)) -> 21 | AF23: =vlookup($C23,Data!$B$3:$AH$20,8,false) -> 54 | AG23: =vlookup($C23,Data!$B$3:$AH$20,9,false) -> 0 | AH23: =if(ISBLANK(E23)," ",concatenate(AF23,".",AG23,"v")) -> 54.0v

Sheet Data
A1: Original placing | B1: Current rank | C1: Change | E1: Name | F1: Class | G1: B/f points | H1: B/f Vs | I1: Total points | J1: Total Vs | K1: Points dropped | M1: Detail | N1: Shot | AE1: Total | AG1: Shots fired | AH1: Points dropped | AI1: Score for ranking ONLY | AK1: Vs | AL1: 5s | AM1: 4s | AN1: 3s | AO1: 2s | AP1: 1s | AQ1: 0s | AR1: Not shot
G2: 0 | H2: 0 | I2: 75 | J2: 15 | N2: S1 | O2: S2 | P2: 1 | Q2: 2 | R2: 3 | S2: 4 | T2: 5 | U2: 6 | V2: 7 | W2: 8 | X2: 9 | Y2: 10 | Z2: 11 | AA2: 12 | AB2: 13 | AC2: 14 | AD2: 15 | AE2: Score | AF2: Vs
A3: 1 | B3: =rank(AI3,$AI$3:$AI$20,0) -> 9 | C3: =if(D3>0,"▲",if(D3<0,"▼","")) -> ▼ | D3: =A3-B3 -> -8 | E3: Osman Polat | F3: B | G3: 0 | H3: 0 | I3: =G3+AE3 -> 69 | J3: =H3+AF3 -> 4 | K3: =-(G3-$G$2-L3-AH3) -> 6 | L3: 1e-10 | M3: 2 | N3: 4 | O3: 5 | P3: 5 | Q3: 5 | R3: 4 | S3: 4 | T3: V | U3: V | V3: 4 | W3: 5 | X3: 4 | Y3: V | Z3: 4 | AA3: 4 | AB3: V | AC3: 5 | AD3: 5 | AE3: =((AK3+AL3)*5)+(AM3*4)+(AN3*3)+(AO3*2)+(AP3*1) -> 69 | AF3: =AK3 -> 4 | AG3: =15-AR3 -> 15 | AH3: =if(ISBLANK(N3),"75",(AG3*5)-AE3) -> 6 | AI3: =$I$2-(K3)+(J3*0.01) -> 69.04 | AK3: =countif($P3:$AD3,"=v") -> 4 | AL3: =countif($P3:$AD3,"=5") -> 5 | AM3: =countif($P3:$AD3,"=4") -> 6 | AN3: =countif($P3:$AD3,"=3") -> 0 | AO3: =countif($P3:$AD3,"=2") -> 0 | AP3: =countif($P3:$AD3,"=1") -> 0 | AQ3: =countif($P3:$AD3,"=0") -> 0 | AR3: =COUNTBLANK(P3:AD3) -> 0
A4: 2 | B4: =rank(AI4,$AI$3:$AI$20,0) -> 3 | C4: =if(D4>0,"▲",if(D4<0,"▼","")) -> ▼ | D4: =A4-B4 -> -1 | E4: Mike Creber | F4: B | G4: 0 | H4: 0 | I4: =G4+AE4 -> 73 | J4: =H4+AF4 -> 6 | K4: =-(G4-$G$2-L4-AH4) -> 2 | L4: 2e-10 | M4: 1 | N4: 3 | O4: V | P4: V | Q4: 4 | R4: 5 | S4: V | T4: 5 | U4: 5 | V4: 5 | W4: V | X4: 5 | Y4: V | Z4: 5 | AA4: 5 | AB4: 4 | AC4: V | AD4: V | AE4: =((AK4+AL4)*5)+(AM4*4)+(AN4*3)+(AO4*2)+(AP4*1) -> 73 | AF4: =AK4 -> 6 | AG4: =15-AR4 -> 15 | AH4: =if(ISBLANK(N4),"75",(AG4*5)-AE4) -> 2 | AI4: =$I$2-(K4)+(J4*0.01) -> 73.06 | AK4: =countif($P4:$AD4,"=v") -> 6 | AL4: =countif($P4:$AD4,"=5") -> 7 | AM4: =countif($P4:$AD4,"=4") -> 2 | AN4: =countif($P4:$AD4,"=3") -> 0 | AO4: =countif($P4:$AD4,"=2") -> 0 | AP4: =countif($P4:$AD4,"=1") -> 0 | AQ4: =countif($P4:$AD4,"=0") -> 0 | AR4: =COUNTBLANK(P4:AD4) -> 0
A5: 3 | B5: =rank(AI5,$AI$3:$AI$20,0) -> 4 | C5: =if(D5>0,"▲",if(D5<0,"▼","")) -> ▼ | D5: =A5-B5 -> -1 | E5: Charlie Brewin | F5: B | G5: 0 | H5: 0 | I5: =G5+AE5 -> 72 | J5: =H5+AF5 -> 8 | K5: =-(G5-$G$2-L5-AH5) -> 3 | L5: 3e-10 | M5: 1 | N5: 2 | O5: V | P5: V | Q5: V | R5: 4 | S5: 5 | T5: V | U5: 5 | V5: V | W5: 4 | X5: V | Y5: V | Z5: 4 | AA5: 5 | AB5: V | AC5: V | AD5: 5 | AE5: =((AK5+AL5)*5)+(AM5*4)+(AN5*3)+(AO5*2)+(AP5*1) -> 72 | AF5: =AK5 -> 8 | AG5: =15-AR5 -> 15 | AH5: =if(ISBLANK(N5),"75",(AG5*5)-AE5) -> 3 | AI5: =$I$2-(K5)+(J5*0.01) -> 72.08 | AK5: =countif($P5:$AD5,"=v") -> 8 | AL5: =countif($P5:$AD5,"=5") -> 4 | AM5: =countif($P5:$AD5,"=4") -> 3 | AN5: =countif($P5:$AD5,"=3") -> 0 | AO5: =countif($P5:$AD5,"=2") -> 0 | AP5: =countif($P5:$AD5,"=1") -> 0 | AQ5: =countif($P5:$AD5,"=0") -> 0 | AR5: =COUNTBLANK(P5:AD5) -> 0
A6: 4 | B6: =rank(AI6,$AI$3:$AI$20,0) -> 6 | C6: =if(D6>0,"▲",if(D6<0,"▼","")) -> ▼ | D6: =A6-B6 -> -2 | E6: Adam Norman | F6: A | G6: 0 | H6: 0 | I6: =G6+AE6 -> 71 | J6: =H6+AF6 -> 5 | K6: =-(G6-$G$2-L6-AH6) -> 4 | L6: 4e-10 | M6: 3 | N6: 4 | O6: 4 | P6: 4 | Q6: 5 | R6: 5 | S6: V | T6: 4 | U6: 4 | V6: 4 | W6: V | X6: V | Y6: 5 | Z6: 5 | AA6: 5 | AB6: V | AC6: V | AD6: 5 | AE6: =((AK6+AL6)*5)+(AM6*4)+(AN6*3)+(AO6*2)+(AP6*1) -> 71 | AF6: =AK6 -> 5 | AG6: =15-AR6 -> 15 | AH6: =if(ISBLANK(N6),"75",(AG6*5)-AE6) -> 4 | AI6: =$I$2-(K6)+(J6*0.01) -> 71.05 | AK6: =countif($P6:$AD6,"=v") -> 5 | AL6: =countif($P6:$AD6,"=5") -> 6 | AM6: =countif($P6:$AD6,"=4") -> 4 | AN6: =countif($P6:$AD6,"=3") -> 0 | AO6: =countif($P6:$AD6,"=2") -> 0 | AP6: =countif($P6:$AD6,"=1") -> 0 | AQ6: =countif($P6:$AD6,"=0") -> 0 | AR6: =COUNTBLANK(P6:AD6) -> 0
A7: 5 | B7: =rank(AI7,$AI$3:$AI$20,0) -> 5 | C7: =if(D7>0,"▲",if(D7<0,"▼","")) | D7: =A7-B7 -> 0 | E7: Nick Branch | F7: A | G7: 0 | H7: 0 | I7: =G7+AE7 -> 71 | J7: =H7+AF7 -> 7 | K7: =-(G7-$G$2-L7-AH7) -> 4 | L7: 5e-10 | M7: 1 | N7: 4 | O7: V | P7: V | Q7: 4 | R7: V | S7: V | T7: V | U7: 4 | V7: 5 | W7: 4 | X7: V | Y7: V | Z7: 5 | AA7: V | AB7: 5 | AC7: 5 | AD7: 4 | AE7: =((AK7+AL7)*5)+(AM7*4)+(AN7*3)+(AO7*2)+(AP7*1) -> 71 | AF7: =AK7 -> 7 | AG7: =15-AR7 -> 15 | AH7: =if(ISBLANK(N7),"75",(AG7*5)-AE7) -> 4 | AI7: =$I$2-(K7)+(J7*0.01) -> 71.07 | AK7: =countif($P7:$AD7,"=v") -> 7 | AL7: =countif($P7:$AD7,"=5") -> 4 | AM7: =countif($P7:$AD7,"=4") -> 4 | AN7: =countif($P7:$AD7,"=3") -> 0 | AO7: =countif($P7:$AD7,"=2") -> 0 | AP7: =countif($P7:$AD7,"=1") -> 0 | AQ7: =countif($P7:$AD7,"=0") -> 0 | AR7: =COUNTBLANK(P7:AD7) -> 0
A8: 6 | B8: =rank(AI8,$AI$3:$AI$20,0) -> 16 | C8: =if(D8>0,"▲",if(D8<0,"▼","")) -> ▼ | D8: =A8-B8 -> -10 | E8: Mikey Chammings | F8: B | G8: 0 | H8: 0 | I8: =G8+AE8 -> 65 | J8: =H8+AF8 -> 2 | K8: =-(G8-$G$2-L8-AH8) -> 10 | L8: 6e-10 | M8: 1 | N8: 4 | O8: 4 | P8: 4 | Q8: 4 | R8: 4 | S8: 3 | T8: 4 | U8: 5 | V8: 4 | W8: 5 | X8: 4 | Y8: 4 | Z8: 5 | AA8: 4 | AB8: 5 | AC8: V | AD8: V | AE8: =((AK8+AL8)*5)+(AM8*4)+(AN8*3)+(AO8*2)+(AP8*1) -> 65 | AF8: =AK8 -> 2 | AG8: =15-AR8 -> 15 | AH8: =if(ISBLANK(N8),"75",(AG8*5)-AE8) -> 10 | AI8: =$I$2-(K8)+(J8*0.01) -> 65.02 | AK8: =countif($P8:$AD8,"=v") -> 2 | AL8: =countif($P8:$AD8,"=5") -> 4 | AM8: =countif($P8:$AD8,"=4") -> 8 | AN8: =countif($P8:$AD8,"=3") -> 1 | AO8: =countif($P8:$AD8,"=2") -> 0 | AP8: =countif($P8:$AD8,"=1") -> 0 | AQ8: =countif($P8:$AD8,"=0") -> 0 | AR8: =COUNTBLANK(P8:AD8) -> 0
A9: 7 | B9: =rank(AI9,$AI$3:$AI$20,0) -> 7 | C9: =if(D9>0,"▲",if(D9<0,"▼","")) | D9: =A9-B9 -> 0 | E9: Alexandra Dorey | F9: B | G9: 0 | H9: 0 | I9: =G9+AE9 -> 71 | J9: =H9+AF9 -> 5 | K9: =-(G9-$G$2-L9-AH9) -> 4 | L9: 7e-10 | M9: 2 | N9: 4 | O9: V | P9: V | Q9: 5 | R9: V | S9: V | T9: 4 | U9: V | V9: 5 | W9: 5 | X9: 4 | Y9: 5 | Z9: 5 | AA9: V | AB9: 4 | AC9: 4 | AD9: 5 | AE9: =((AK9+AL9)*5)+(AM9*4)+(AN9*3)+(AO9*2)+(AP9*1) -> 71 | AF9: =AK9 -> 5 | AG9: =15-AR9 -> 15 | AH9: =if(ISBLANK(N9),"75",(AG9*5)-AE9) -> 4 | AI9: =$I$2-(K9)+(J9*0.01) -> 71.05 | AK9: =countif($P9:$AD9,"=v") -> 5 | AL9: =countif($P9:$AD9,"=5") -> 6 | AM9: =countif($P9:$AD9,"=4") -> 4 | AN9: =countif($P9:$AD9,"=3") -> 0 | AO9: =countif($P9:$AD9,"=2") -> 0 | AP9: =countif($P9:$AD9,"=1") -> 0 | AQ9: =countif($P9:$AD9,"=0") -> 0 | AR9: =COUNTBLANK(P9:AD9) -> 0
A10: 8 | B10: =rank(AI10,$AI$3:$AI$20,0) -> 13 | C10: =if(D10>0,"▲",if(D10<0,"▼","")) -> ▼ | D10: =A10-B10 -> -5 | E10: Jacques Bideau | F10: B | G10: 0 | H10: 0 | I10: =G10+AE10 -> 68 | J10: =H10+AF10 -> 1 | K10: =-(G10-$G$2-L10-AH10) -> 7 | L10: 8e-10 | M10: 2 | N10: 4 | O10: 5 | P10: 5 | Q10: 4 | R10: 4 | S10: 5 | T10: V | U10: 5 | V10: 4 | W10: 5 | X10: 5 | Y10: 4 | Z10: 4 | AA10: 5 | AB10: 4 | AC10: 4 | AD10: 5 | AE10: =((AK10+AL10)*5)+(AM10*4)+(AN10*3)+(AO10*2)+(AP10*1) -> 68 | AF10: =AK10 -> 1 | AG10: =15-AR10 -> 15 | AH10: =if(ISBLANK(N10),"75",(AG10*5)-AE10) -> 7 | AI10: =$I$2-(K10)+(J10*0.01) -> 68.01 | AK10: =countif($P10:$AD10,"=v") -> 1 | AL10: =countif($P10:$AD10,"=5") -> 7 | AM10: =countif($P10:$AD10,"=4") -> 7 | AN10: =countif($P10:$AD10,"=3") -> 0 | AO10: =countif($P10:$AD10,"=2") -> 0 | AP10: =countif($P10:$AD10,"=1") -> 0 | AQ10: =countif($P10:$AD10,"=0") -> 0 | AR10: =COUNTBLANK(P10:AD10) -> 0
A11: 9 | B11: =rank(AI11,$AI$3:$AI$20,0) -> 12 | C11: =if(D11>0,"▲",if(D11<0,"▼","")) -> ▼ | D11: =A11-B11 -> -3 | E11: James Nippers | F11: B | G11: 0 | H11: 0 | I11: =G11+AE11 -> 68 | J11: =H11+AF11 -> 5 | K11: =-(G11-$G$2-L11-AH11) -> 7 | L11: 9e-10 | M11: 1 | N11: 2 | O11: 4 | P11: 4 | Q11: 5 | R11: 4 | S11: 4 | T11: V | U11: 4 | V11: 5 | W11: V | X11: V | Y11: 4 | Z11: 4 | AA11: 5 | AB11: 4 | AC11: V | AD11: V | AE11: =((AK11+AL11)*5)+(AM11*4)+(AN11*3)+(AO11*2)+(AP11*1) -> 68 | AF11: =AK11 -> 5 | AG11: =15-AR11 -> 15 | AH11: =if(ISBLANK(N11),"75",(AG11*5)-AE11) -> 7 | AI11: =$I$2-(K11)+(J11*0.01) -> 68.05 | AK11: =countif($P11:$AD11,"=v") -> 5 | AL11: =countif($P11:$AD11,"=5") -> 3 | AM11: =countif($P11:$AD11,"=4") -> 7 | AN11: =countif($P11:$AD11,"=3") -> 0 | AO11: =countif($P11:$AD11,"=2") -> 0 | AP11: =countif($P11:$AD11,"=1") -> 0 | AQ11: =countif($P11:$AD11,"=0") -> 0 | AR11: =COUNTBLANK(P11:AD11) -> 0
A12: 10 | B12: =rank(AI12,$AI$3:$AI$20,0) -> 17 | C12: =if(D12>0,"▲",if(D12<0,"▼","")) -> ▼ | D12: =A12-B12 -> -7 | E12: Jason Richards | F12: B | G12: 0 | H12: 0 | I12: =G12+AE12 -> 63 | J12: =H12+AF12 -> 1 | K12: =-(G12-$G$2-L12-AH12) -> 12 | L12: 1e-09 | M12: 2 | N12: 0 | O12: 4 | P12: 3 | Q12: 4 | R12: 2 | S12: 4 | T12: 4 | U12: V | V12: 5 | W12: 5 | X12: 5 | Y12: 4 | Z12: 4 | AA12: 5 | AB12: 5 | AC12: 4 | AD12: 4 | AE12: =((AK12+AL12)*5)+(AM12*4)+(AN12*3)+(AO12*2)+(AP12*1) -> 63 | AF12: =AK12 -> 1 | AG12: =15-AR12 -> 15 | AH12: =if(ISBLANK(N12),"75",(AG12*5)-AE12) -> 12 | AI12: =$I$2-(K12)+(J12*0.01) -> 63.01 | AK12: =countif($P12:$AD12,"=v") -> 1 | AL12: =countif($P12:$AD12,"=5") -> 5 | AM12: =countif($P12:$AD12,"=4") -> 7 | AN12: =countif($P12:$AD12,"=3") -> 1 | AO12: =countif($P12:$AD12,"=2") -> 1 | AP12: =countif($P12:$AD12,"=1") -> 0 | AQ12: =countif($P12:$AD12,"=0") -> 0 | AR12: =COUNTBLANK(P12:AD12) -> 0
A13: 11 | B13: =rank(AI13,$AI$3:$AI$20,0) -> 14 | C13: =if(D13>0,"▲",if(D13<0,"▼","")) -> ▼ | D13: =A13-B13 -> -3 | E13: Mike Marquand | F13: B | G13: 0 | H13: 0 | I13: =G13+AE13 -> 66 | J13: =H13+AF13 -> 2 | K13: =-(G13-$G$2-L13-AH13) -> 9 | L13: 1.1e-09 | M13: 3 | N13: 4 | O13: 4 | P13: 5 | Q13: 3 | R13: 5 | S13: 4 | T13: 4 | U13: V | V13: 4 | W13: 5 | X13: 4 | Y13: 5 | Z13: 4 | AA13: 5 | AB13: 4 | AC13: 4 | AD13: V | AE13: =((AK13+AL13)*5)+(AM13*4)+(AN13*3)+(AO13*2)+(AP13*1) -> 66 | AF13: =AK13 -> 2 | AG13: =15-AR13 -> 15 | AH13: =if(ISBLANK(N13),"75",(AG13*5)-AE13) -> 9 | AI13: =$I$2-(K13)+(J13*0.01) -> 66.02 | AK13: =countif($P13:$AD13,"=v") -> 2 | AL13: =countif($P13:$AD13,"=5") -> 5 | AM13: =countif($P13:$AD13,"=4") -> 7 | AN13: =countif($P13:$AD13,"=3") -> 1 | AO13: =countif($P13:$AD13,"=2") -> 0 | AP13: =countif($P13:$AD13,"=1") -> 0 | AQ13: =countif($P13:$AD13,"=0") -> 0 | AR13: =COUNTBLANK(P13:AD13) -> 0
A14: 12 | B14: =rank(AI14,$AI$3:$AI$20,0) -> 1 | C14: =if(D14>0,"▲",if(D14<0,"▼","")) -> ▲ | D14: =A14-B14 -> 11 | E14: Alexander Stewart | F14: A | G14: 0 | H14: 0 | I14: =G14+AE14 -> 75 | J14: =H14+AF14 -> 9 | K14: =-(G14-$G$2-L14-AH14) -> 1.2e-09 | L14: 1.2e-09 | M14: 3 | N14: 4 | O14: V | P14: V | Q14: 5 | R14: V | S14: 5 | T14: V | U14: V | V14: V | W14: 5 | X14: V | Y14: 5 | Z14: V | AA14: 5 | AB14: V | AC14: 5 | AD14: V | AE14: =((AK14+AL14)*5)+(AM14*4)+(AN14*3)+(AO14*2)+(AP14*1) -> 75 | AF14: =AK14 -> 9 | AG14: =15-AR14 -> 15 | AH14: =if(ISBLANK(N14),"75",(AG14*5)-AE14) -> 0 | AI14: =$I$2-(K14)+(J14*0.01) -> 75.09 | AK14: =countif($P14:$AD14,"=v") -> 9 | AL14: =countif($P14:$AD14,"=5") -> 6 | AM14: =countif($P14:$AD14,"=4") -> 0 | AN14: =countif($P14:$AD14,"=3") -> 0 | AO14: =countif($P14:$AD14,"=2") -> 0 | AP14: =countif($P14:$AD14,"=1") -> 0 | AQ14: =countif($P14:$AD14,"=0") -> 0 | AR14: =COUNTBLANK(P14:AD14) -> 0
A15: 13 | B15: =rank(AI15,$AI$3:$AI$20,0) -> 2 | C15: =if(D15>0,"▲",if(D15<0,"▼","")) -> ▲ | D15: =A15-B15 -> 11 | E15: Rory McKenna | F15: B | G15: 0 | H15: 0 | I15: =G15+AE15 -> 73 | J15: =H15+AF15 -> 7 | K15: =-(G15-$G$2-L15-AH15) -> 2 | L15: 1.3e-09 | M15: 3 | N15: 4 | O15: V | P15: V | Q15: 5 | R15: V | S15: 5 | T15: V | U15: 4 | V15: 5 | W15: V | X15: 5 | Y15: V | Z15: V | AA15: 5 | AB15: 4 | AC15: V | AD15: 5 | AE15: =((AK15+AL15)*5)+(AM15*4)+(AN15*3)+(AO15*2)+(AP15*1) -> 73 | AF15: =AK15 -> 7 | AG15: =15-AR15 -> 15 | AH15: =if(ISBLANK(N15),"75",(AG15*5)-AE15) -> 2 | AI15: =$I$2-(K15)+(J15*0.01) -> 73.07 | AK15: =countif($P15:$AD15,"=v") -> 7 | AL15: =countif($P15:$AD15,"=5") -> 6 | AM15: =countif($P15:$AD15,"=4") -> 2 | AN15: =countif($P15:$AD15,"=3") -> 0 | AO15: =countif($P15:$AD15,"=2") -> 0 | AP15: =countif($P15:$AD15,"=1") -> 0 | AQ15: =countif($P15:$AD15,"=0") -> 0 | AR15: =COUNTBLANK(P15:AD15) -> 0
A16: 14 | B16: =rank(AI16,$AI$3:$AI$20,0) -> 15 | C16: =if(D16>0,"▲",if(D16<0,"▼","")) -> ▼ | D16: =A16-B16 -> -1 | E16: Jeremy Witham | F16: B | G16: 0 | H16: 0 | I16: =G16+AE16 -> 66 | J16: =H16+AF16 -> 2 | K16: =-(G16-$G$2-L16-AH16) -> 9 | L16: 1.4e-09 | M16: 3 | N16: 4 | O16: 4 | P16: 4 | Q16: 4 | R16: 5 | S16: 5 | T16: 4 | U16: 5 | V16: 4 | W16: 4 | X16: 4 | Y16: 5 | Z16: V | AA16: 4 | AB16: 4 | AC16: 4 | AD16: V | AE16: =((AK16+AL16)*5)+(AM16*4)+(AN16*3)+(AO16*2)+(AP16*1) -> 66 | AF16: =AK16 -> 2 | AG16: =15-AR16 -> 15 | AH16: =if(ISBLANK(N16),"75",(AG16*5)-AE16) -> 9 | AI16: =$I$2-(K16)+(J16*0.01) -> 66.02 | AK16: =countif($P16:$AD16,"=v") -> 2 | AL16: =countif($P16:$AD16,"=5") -> 4 | AM16: =countif($P16:$AD16,"=4") -> 9 | AN16: =countif($P16:$AD16,"=3") -> 0 | AO16: =countif($P16:$AD16,"=2") -> 0 | AP16: =countif($P16:$AD16,"=1") -> 0 | AQ16: =countif($P16:$AD16,"=0") -> 0 | AR16: =COUNTBLANK(P16:AD16) -> 0
A17: 15 | B17: =rank(AI17,$AI$3:$AI$20,0) -> 8 | C17: =if(D17>0,"▲",if(D17<0,"▼","")) -> ▲ | D17: =A17-B17 -> 7 | E17: Alistair Stewart | F17: A | G17: 0 | H17: 0 | I17: =G17+AE17 -> 70 | J17: =H17+AF17 -> 5 | K17: =-(G17-$G$2-L17-AH17) -> 5 | L17: 1.5e-09 | M17: 1 | N17: 4 | O17: 4 | P17: 4 | Q17: 4 | R17: 4 | S17: 5 | T17: 5 | U17: 5 | V17: V | W17: V | X17: 5 | Y17: V | Z17: 5 | AA17: 4 | AB17: V | AC17: V | AD17: 4 | AE17: =((AK17+AL17)*5)+(AM17*4)+(AN17*3)+(AO17*2)+(AP17*1) -> 70 | AF17: =AK17 -> 5 | AG17: =15-AR17 -> 15 | AH17: =if(ISBLANK(N17),"75",(AG17*5)-AE17) -> 5 | AI17: =$I$2-(K17)+(J17*0.01) -> 70.05 | AK17: =countif($P17:$AD17,"=v") -> 5 | AL17: =countif($P17:$AD17,"=5") -> 5 | AM17: =countif($P17:$AD17,"=4") -> 5 | AN17: =countif($P17:$AD17,"=3") -> 0 | AO17: =countif($P17:$AD17,"=2") -> 0 | AP17: =countif($P17:$AD17,"=1") -> 0 | AQ17: =countif($P17:$AD17,"=0") -> 0 | AR17: =COUNTBLANK(P17:AD17) -> 0
A18: 16 | B18: =rank(AI18,$AI$3:$AI$20,0) -> 11 | C18: =if(D18>0,"▲",if(D18<0,"▼","")) -> ▲ | D18: =A18-B18 -> 5 | E18: Freddie Stewart | F18: B | G18: 0 | H18: 0 | I18: =G18+AE18 -> 68 | J18: =H18+AF18 -> 6 | K18: =-(G18-$G$2-L18-AH18) -> 7 | L18: 1.6e-09 | M18: 2 | N18: 4 | O18: 4 | P18: V | Q18: 4 | R18: V | S18: V | T18: V | U18: V | V18: 5 | W18: 3 | X18: V | Y18: 4 | Z18: 5 | AA18: 5 | AB18: 4 | AC18: 4 | AD18: 4 | AE18: =((AK18+AL18)*5)+(AM18*4)+(AN18*3)+(AO18*2)+(AP18*1) -> 68 | AF18: =AK18 -> 6 | AG18: =15-AR18 -> 15 | AH18: =if(ISBLANK(N18),"75",(AG18*5)-AE18) -> 7 | AI18: =$I$2-(K18)+(J18*0.01) -> 68.06 | AK18: =countif($P18:$AD18,"=v") -> 6 | AL18: =countif($P18:$AD18,"=5") -> 3 | AM18: =countif($P18:$AD18,"=4") -> 5 | AN18: =countif($P18:$AD18,"=3") -> 1 | AO18: =countif($P18:$AD18,"=2") -> 0 | AP18: =countif($P18:$AD18,"=1") -> 0 | AQ18: =countif($P18:$AD18,"=0") -> 0 | AR18: =COUNTBLANK(P18:AD18) -> 0
A19: 17 | B19: =rank(AI19,$AI$3:$AI$20,0) -> 10 | C19: =if(D19>0,"▲",if(D19<0,"▼","")) -> ▲ | D19: =A19-B19 -> 7 | E19: Luke Malčić | F19: B | G19: 0 | H19: 0 | I19: =G19+AE19 -> 69 | J19: =H19+AF19 -> 3 | K19: =-(G19-$G$2-L19-AH19) -> 6 | L19: 1.7e-09 | M19: 3 | N19: 4 | O19: 5 | P19: 5 | Q19: 4 | R19: 4 | S19: 4 | T19: 4 | U19: 5 | V19: V | W19: 4 | X19: 5 | Y19: 5 | Z19: 4 | AA19: 5 | AB19: 5 | AC19: V | AD19: V | AE19: =((AK19+AL19)*5)+(AM19*4)+(AN19*3)+(AO19*2)+(AP19*1) -> 69 | AF19: =AK19 -> 3 | AG19: =15-AR19 -> 15 | AH19: =if(ISBLANK(N19),"75",(AG19*5)-AE19) -> 6 | AI19: =$I$2-(K19)+(J19*0.01) -> 69.03 | AK19: =countif($P19:$AD19,"=v") -> 3 | AL19: =countif($P19:$AD19,"=5") -> 6 | AM19: =countif($P19:$AD19,"=4") -> 6 | AN19: =countif($P19:$AD19,"=3") -> 0 | AO19: =countif($P19:$AD19,"=2") -> 0 | AP19: =countif($P19:$AD19,"=1") -> 0 | AQ19: =countif($P19:$AD19,"=0") -> 0 | AR19: =COUNTBLANK(P19:AD19) -> 0
A20: 18 | B20: =rank(AI20,$AI$3:$AI$20,0) -> 18 | C20: =if(D20>0,"▲",if(D20<0,"▼","")) | D20: =A20-B20 -> 0 | E20: Kieran Kelly | F20: B | G20: 0 | H20: 0 | I20: =G20+AE20 -> 54 | J20: =H20+AF20 -> 0 | K20: =-(G20-$G$2-L20-AH20) -> 21 | L20: 1.8e-09 | M20: 3 | N20: 4 | O20: 4 | P20: 4 | Q20: 3 | R20: 1 | S20: 2 | T20: 4 | U20: 4 | V20: 2 | W20: 5 | X20: 4 | Y20: 4 | Z20: 3 | AA20: 5 | AB20: 5 | AC20: 4 | AD20: 4 | AE20: =((AK20+AL20)*5)+(AM20*4)+(AN20*3)+(AO20*2)+(AP20*1) -> 54 | AF20: =AK20 -> 0 | AG20: =15-AR20 -> 15 | AH20: =if(ISBLANK(N20),"75",(AG20*5)-AE20) -> 21 | AI20: =$I$2-(K20)+(J20*0.01) -> 54 | AK20: =countif($P20:$AD20,"=v") -> 0 | AL20: =countif($P20:$AD20,"=5") -> 3 | AM20: =countif($P20:$AD20,"=4") -> 7 | AN20: =countif($P20:$AD20,"=3") -> 2 | AO20: =countif($P20:$AD20,"=2") -> 2 | AP20: =countif($P20:$AD20,"=1") -> 1 | AQ20: =countif($P20:$AD20,"=0") -> 0 | AR20: =COUNTBLANK(P20:AD20) -> 0
B21: 1 | C21: 2 | D21: 3 | E21: 4 | F21: 5 | G21: 6 | H21: 7 | I21: 8 | J21: 9 | K21: 10 | L21: 11 | M21: 12 | N21: 13 | O21: 14 | P21: 15 | Q21: 16 | R21: 17 | S21: 18 | T21: 19 | U21: 20 | V21: 21 | W21: 22 | X21: 23 | Y21: 24 | Z21: 25 | AA21: 26 | AB21: 27 | AC21: 28 | AD21: 29 | AE21: 30 | AF21: 31 | AG21: 32 | AH21: 33
