Workbook

Sheet Individual Stage I
C3: Island Games Individual, Stage I
C5: Pos | D5: Name | E5: Island | F5: 300 | G5: 500 | H5: 600 | I5: Total
C6: 1st | D6: Matt Neal | E6: Jersey | F6: 34.05 | G6: 33.03 | H6: 34.02 | I6: =SUM(F6:H6) -> 101.1
C7: 2nd | D7: Mark Dodd | E7: Falklands | F7: 32.02 | G7: 34.04 | H7: 34.03 | I7: =SUM(F7:H7) -> 100.09
C8: 3rd | D8: Rob Waters | E8: Guernsey | F8: 35.03 | G8: 33.04 | H8: 32.02 | I8: =SUM(F8:H8) -> 100.09
C9: 4th | D9: Lars Larsson | E9: Gotland | F9: 33.04 | G9: 35.01 | H9: 31.02 | I9: =SUM(F9:H9) -> 99.07
C10: 5th | D10: Andrew Hood | E10: Jersey | F10: 31.01 | G10: 33.02 | H10: 33.03 | I10: =SUM(F10:H10) -> 97.06
C11: 6th | D11: Jonathan Branch | E11: Guernsey | F11: 30.02 | G11: 33.04 | H11: 33.05 | I11: =SUM(F11:H11) -> 96.11
C12: 7th | D12: Christian Berntsen | E12: Falklands | F12: 32 | G12: 31.01 | H12: 32.03 | I12: =SUM(F12:H12) -> 95.04

Sheet Individual Stage II
C3: Island Games Individual, Stage II
J4: Stage II total | K4: Running total
C5: Pos | D5: Name | E5: Island | F5: Stage I | G5: 300 | H5: 500 | I5: 600
C6: 1st | D6: Rob Waters | E6: Guernsey | F6: ='Individual Stage I'!I8 -> 100.09 | G6: 50.06 | H6: 47.06 | I6: 49.08 | J6: =SUM(G6:I6) -> 146.2 | K6: =SUM(F6,J6) -> 246.29
C7: 2nd | D7: Matt Neal | E7: Jersey | F7: ='Individual Stage I'!I6 -> 101.1 | G7: 48.05 | H7: 48.04 | I7: 49.03 | J7: =SUM(G7:I7) -> 145.12 | K7: =SUM(F7,J7) -> 246.22
C8: 3rd | D8: Mark Dodd | E8: Falklands | F8: ='Individual Stage I'!I7 -> 100.09 | G8: 49.08 | H8: 49.05 | I8: 47.03 | J8: =SUM(G8:I8) -> 145.16 | K8: =SUM(F8,J8) -> 245.25
C9: 4th | D9: Andrew Hood | E9: Jersey | F9: ='Individual Stage I'!I10 -> 97.06 | G9: 48.06 | H9: 49.05 | I9: 49.06 | J9: =SUM(G9:I9) -> 146.17 | K9: =SUM(F9,J9) -> 243.23
C10: 5th | D10: Jonathan Branch | E10: Guernsey | F10: ='Individual Stage I'!I11 -> 96.11 | G10: 48.04 | H10: 48.03 | I10: 50.04 | J10: =SUM(G10:I10) -> 146.11 | K10: =SUM(F10,J10) -> 242.22
C11: 6th | D11: Lars Larsson | E11: Gotland | F11: ='Individual Stage I'!I9 -> 99.07 | G11: 45.03 | H11: 50.05 | I11: 47.03 | J11: =SUM(G11:I11) -> 142.11 | K11: =SUM(F11,J11) -> 241.18
C12: 7th | D12: Christian Berntsen | E12: Falklands | F12: ='Individual Stage I'!I12 -> 95.04 | G12: 48.06 | H12: 46.01 | I12: 43 | J12: =SUM(G12:I12) -> 137.07 | K12: =SUM(F12,J12) -> 232.11

Sheet Individual Final
C3: Island Games Individual Final
H4: Running total | L4: Grand Total
C5: Pos | D5: Name | E5: Island | F5: Stage I | G5: Stage II | I5: 500 | J5: 600 | K5: Total
C6: 🥇 | D6: Rob Waters | E6: Guernsey | F6: ='Individual Stage II'!F6 -> 100.09 | G6: ='Individual Stage II'!J6 -> 146.2 | H6: =SUM(F6:G6) -> 246.29 | I6: 72.08 | J6: 73.09 | K6: =SUM(I6:J6) -> 145.17 | L6: =SUM(H6,K6) -> 391.46
C7: 🥈 | D7: Matt Neal | E7: Jersey | F7: ='Individual Stage II'!F7 -> 101.1 | G7: ='Individual Stage II'!J7 -> 145.12 | H7: =SUM(F7:G7) -> 246.22 | I7: 74.11 | J7: 69.07 | K7: =SUM(I7:J7) -> 143.18 | L7: =SUM(H7,K7) -> 389.4
C8: 🥉 | D8: Mark Dodd | E8: Falklands | F8: ='Individual Stage II'!F8 -> 100.09 | G8: ='Individual Stage II'!J8 -> 145.16 | H8: =SUM(F8:G8) -> 245.25 | I8: 67.04 | J8: 70.05 | K8: =SUM(I8:J8) -> 137.09 | L8: =SUM(H8,K8) -> 382.34
C9: 4th | D9: Jonathan Branch | E9: Guernsey | F9: ='Individual Stage II'!F10 -> 96.11 | G9: ='Individual Stage II'!J10 -> 146.11 | H9: =SUM(F9:G9) -> 242.22 | I9: 71.04 | J9: 69.06 | K9: =SUM(I9:J9) -> 140.1 | L9: =SUM(H9,K9) -> 382.32
C10: 5th | D10: Lars Larsson | E10: Gotland | F10: ='Individual Stage II'!F11 -> 99.07 | G10: ='Individual Stage II'!J11 -> 142.11 | H10: =SUM(F10:G10) -> 241.18 | I10: 70.04 | J10: 69.06 | K10: =SUM(I10:J10) -> 139.1 | L10: =SUM(H10,K10) -> 380.28
C11: 6th | D11: Andrew Hood | E11: Jersey | F11: ='Individual Stage II'!F9 -> 97.06 | G11: ='Individual Stage II'!J9 -> 146.17 | H11: =SUM(F11:G11) -> 243.23 | I11: 66.02 | J11: 64.04 | K11: =SUM(I11:J11) -> 130.06 | L11: =SUM(H11,K11) -> 373.29
C12: 7th | D12: Christian Berntsen | E12: Falklands | F12: ='Individual Stage II'!F12 -> 95.04 | G12: ='Individual Stage II'!J12 -> 137.07 | H12: =SUM(F12:G12) -> 232.11 | I12: 67.03 | J12: 61.04 | K12: =SUM(I12:J12) -> 128.07 | L12: =SUM(H12,K12) -> 360.18
